View In:
ArcGIS JavaScript
ArcGIS Online Map Viewer
ArcGIS Earth
ArcGIS Pro
Service Description:
Map Name: P_30_100
Legend
All Layers and Tables
Dynamic Legend
Dynamic All Layers
Layers:
Description:
Service Item Id: 747b5bfbc922431290448c4960792335
Copyright Text:
Spatial Reference:
3765
(3765)
Single Fused Map Cache: true
Tile Info:
- Height: 256
- Width: 256
- DPI: 96
-
Levels of Detail: 13
-
Level ID: 0
[ Start Tile, End Tile ]
- Resolution: 1400.0028000056002
- Scale: 5291338.582677166
-
Level ID: 1
[ Start Tile, End Tile ]
- Resolution: 700.0014000028001
- Scale: 2645669.291338583
-
Level ID: 2
[ Start Tile, End Tile ]
- Resolution: 280.00056000112005
- Scale: 1058267.7165354332
-
Level ID: 3
[ Start Tile, End Tile ]
- Resolution: 140.00028000056002
- Scale: 529133.8582677166
-
Level ID: 4
[ Start Tile, End Tile ]
- Resolution: 70.00014000028001
- Scale: 264566.9291338583
-
Level ID: 5
[ Start Tile, End Tile ]
- Resolution: 28.000056000112004
- Scale: 105826.77165354331
-
Level ID: 6
[ Start Tile, End Tile ]
- Resolution: 14.000028000056002
- Scale: 52913.38582677166
-
Level ID: 7
[ Start Tile, End Tile ]
- Resolution: 7.000014000028001
- Scale: 26456.69291338583
-
Level ID: 8
[ Start Tile, End Tile ]
- Resolution: 2.8000056000112004
- Scale: 10582.677165354331
-
Level ID: 9
[ Start Tile, End Tile ]
- Resolution: 1.4000028000056002
- Scale: 5291.3385826771655
-
Level ID: 10
[ Start Tile, End Tile ]
- Resolution: 0.5600011200022401
- Scale: 2116.5354330708665
-
Level ID: 11
[ Start Tile, End Tile ]
- Resolution: 0.28000056000112006
- Scale: 1058.2677165354332
-
Level ID: 12
[ Start Tile, End Tile ]
- Resolution: 0.14000028000056003
- Scale: 529.1338582677166
- Format: PNG8
- Compression Quality: 0.0
- Origin: X: -5122600.0
Y: 1.00011E7
- Spatial Reference: 3765
(3765)
Storage Info:
- Storage Format: esriMapCacheStorageModeCompactV2
- Packet Size: 128
Initial Extent:
XMin: 138669.49119614362
YMin: 4643332.060174637
XMax: 852207.8636038571
YMax: 5206813.006625364
Spatial Reference: 3765
(3765)
Full Extent:
XMin: 262038.6774000004
YMin: 4695299.9999
XMax: 728838.6774000004
YMax: 5154845.0669
Spatial Reference: 3765
(3765)
Units: esriMeters
Supported Image Format Types: PNG32,PNG24,PNG,JPG,DIB,TIFF,EMF,PS,PDF,GIF,SVG,SVGZ,BMP
Document Info:
Title: Map1
Author:
Comments:
Subject:
Category:
Keywords:
AntialiasingMode: Fast
TextAntialiasingMode: Force
Supports Dynamic Layers: true
MaxRecordCount: 2000
MaxImageHeight: 4096
MaxImageWidth: 4096
Supported Query Formats: JSON, geoJSON, PBF
Supports Query Data Elements: true
Min Scale: 5291338.582677166
Max Scale: 529.1338582677166
Supports Datum Transformation: true
Child Resources:
Info
Dynamic Layer
Supported Operations:
Export Map
Identify
QueryLegends
QueryDomains
Find
Return Updates