{
 "currentVersion": 11.1,
 "cimVersion": "3.1.0",
 "serviceDescription": "",
 "mapName": "P_30_100",
 "description": "",
 "copyrightText": "",
 "supportsDynamicLayers": true,
 "layers": [
  {
   "id": 99,
   "name": "Pokretna mreža ≥ 30 MBit do 100 MBit",
   "parentLayerId": -1,
   "defaultVisibility": true,
   "subLayerIds": null,
   "minScale": 0,
   "maxScale": 0,
   "type": "Feature Layer",
   "geometryType": "esriGeometryPolygon",
   "supportsDynamicLegends": true
  }
 ],
 "tables": [],
 "spatialReference": {
  "wkid": 3765,
  "latestWkid": 3765,
  "xyTolerance": 0.001,
  "zTolerance": 0.001,
  "mTolerance": 0.001,
  "falseX": -5122600,
  "falseY": -10001100,
  "xyUnits": 10000,
  "falseZ": -100000,
  "zUnits": 10000,
  "falseM": -100000,
  "mUnits": 10000
 },
 "singleFusedMapCache": true,
 "tileInfo": {
  "rows": 256,
  "cols": 256,
  "dpi": 96,
  "format": "PNG8",
  "compressionQuality": 0,
  "origin": {
   "x": -5122600,
   "y": 10001100
  },
  "spatialReference": {
   "wkid": 3765,
   "latestWkid": 3765,
   "xyTolerance": 0.001,
   "zTolerance": 0.001,
   "mTolerance": 0.001,
   "falseX": -5122600,
   "falseY": -10001100,
   "xyUnits": 4.503104285899046E8,
   "falseZ": -100000,
   "zUnits": 10000,
   "falseM": -100000,
   "mUnits": 10000
  },
  "lods": [
   {
    "level": 0,
    "resolution": 1400.0028000056002,
    "scale": 5291338.582677166
   },
   {
    "level": 1,
    "resolution": 700.0014000028001,
    "scale": 2645669.291338583
   },
   {
    "level": 2,
    "resolution": 280.00056000112005,
    "scale": 1058267.7165354332
   },
   {
    "level": 3,
    "resolution": 140.00028000056002,
    "scale": 529133.8582677166
   },
   {
    "level": 4,
    "resolution": 70.00014000028001,
    "scale": 264566.9291338583
   },
   {
    "level": 5,
    "resolution": 28.000056000112004,
    "scale": 105826.77165354331
   },
   {
    "level": 6,
    "resolution": 14.000028000056002,
    "scale": 52913.38582677166
   },
   {
    "level": 7,
    "resolution": 7.000014000028001,
    "scale": 26456.69291338583
   },
   {
    "level": 8,
    "resolution": 2.8000056000112004,
    "scale": 10582.677165354331
   },
   {
    "level": 9,
    "resolution": 1.4000028000056002,
    "scale": 5291.3385826771655
   },
   {
    "level": 10,
    "resolution": 0.5600011200022401,
    "scale": 2116.5354330708665
   },
   {
    "level": 11,
    "resolution": 0.28000056000112006,
    "scale": 1058.2677165354332
   },
   {
    "level": 12,
    "resolution": 0.14000028000056003,
    "scale": 529.1338582677166
   }
  ]
 },
 "storageInfo": {
  "storageFormat": "esriMapCacheStorageModeCompactV2",
  "packetSize": 128
 },
 "initialExtent": {
  "xmin": 138669.49119614362,
  "ymin": 4643332.060174637,
  "xmax": 852207.8636038571,
  "ymax": 5206813.006625364,
  "spatialReference": {
   "wkid": 3765,
   "latestWkid": 3765,
   "xyTolerance": 0.001,
   "zTolerance": 0.001,
   "mTolerance": 0.001,
   "falseX": -5122600,
   "falseY": -10001100,
   "xyUnits": 10000,
   "falseZ": -100000,
   "zUnits": 10000,
   "falseM": -100000,
   "mUnits": 10000
  }
 },
 "fullExtent": {
  "xmin": 262038.6774000004,
  "ymin": 4695299.9999,
  "xmax": 728838.6774000004,
  "ymax": 5154845.0669,
  "spatialReference": {
   "wkid": 3765,
   "latestWkid": 3765,
   "xyTolerance": 0.001,
   "zTolerance": 0.001,
   "mTolerance": 0.001,
   "falseX": -5122600,
   "falseY": -10001100,
   "xyUnits": 10000,
   "falseZ": -100000,
   "zUnits": 10000,
   "falseM": -100000,
   "mUnits": 10000
  }
 },
 "datesInUnknownTimezone": false,
 "minScale": 5291338.582677166,
 "maxScale": 529.1338582677166,
 "units": "esriMeters",
 "supportedImageFormatTypes": "PNG32,PNG24,PNG,JPG,DIB,TIFF,EMF,PS,PDF,GIF,SVG,SVGZ,BMP",
 "documentInfo": {
  "Title": "Map1",
  "Author": "",
  "Comments": "",
  "Subject": "",
  "Category": "",
  "Version": "3.1.0",
  "AntialiasingMode": "Fast",
  "TextAntialiasingMode": "Force",
  "Keywords": ""
 },
 "capabilities": "Map,Query,Data",
 "supportedQueryFormats": "JSON, geoJSON, PBF",
 "exportTilesAllowed": false,
 "referenceScale": 0.0,
 "datumTransformations": [
  {
   "geoTransforms": [
    {
     "wkid": 15967,
     "latestWkid": 15967,
     "transformForward": false,
     "name": "HTRS96_To_WGS_1984_1"
    }
   ]
  },
  {
   "geoTransforms": [
    {
     "wkid": 15967,
     "latestWkid": 15967,
     "transformForward": true,
     "name": "HTRS96_To_WGS_1984_1"
    }
   ]
  }
 ],
 "supportsDatumTransformation": true,
 "archivingInfo": {
  "supportsHistoricMoment": false
 },
 "supportsClipping": true,
 "supportsSpatialFilter": true,
 "supportsTimeRelation": true,
 "supportsQueryDataElements": true,
 "mapUnits": {
  "uwkid": 9001
 },
 "maxRecordCount": 2000,
 "maxImageHeight": 4096,
 "maxImageWidth": 4096,
 "supportedExtensions": "",
 "serviceItemId": "747b5bfbc922431290448c4960792335"
}
